BEGIN:VCALENDAR
VERSION:2.0
PRODID:-//ChamberMaster//Event Calendar 2.0//EN
METHOD:PUBLISH
X-PUBLISHED-TTL:P3D
REFRESH-INTERVAL:P3D
CALSCALE:GREGORIAN
BEGIN:VEVENT
DTSTART;VALUE=DATE:20090123
DTEND;VALUE=DATE:20090124
TRANSP:TRANSPARENT
X-MICROSOFT-CDO-ALLDAYEVENT:TRUE
SUMMARY:2009 Annual Meeting & CIVITAS Awards for Business Excellence
DESCRIPTION:Join the Chamber in an evening of fun and information during the combined Annual Meeting and Civitas Awards event.  The evening  will provide a review of the Chambers performance in 2008 and outline its goals and strategies for 2009 while recognizing outgoing and in-coming community business leaders.   The event is open to Chamber members as well as non-members.  Cocktails 6:00pm   Dinner 7:00pm   Program & Awards Ceremony 7:30pm.   RSVP by Tuesday\, January 20th.    Members $50  Non Members $75 if paid by January 20.   Members $60  Non Members $85 after January 20.
X-ALT-DESC;FMTTYPE=text/html:Join the Chamber in an evening of fun and information during the combined Annual Meeting and Civitas Awards event.  The evening  will provide a review of the Chambers performance in 2008 and outline its goals and strategies for 2009 while recognizing outgoing and in-coming community business leaders.   The event is open to Chamber members as well as non-members.  Cocktails 6:00pm   Dinner 7:00pm   Program & Awards Ceremony 7:30pm.   RSVP by Tuesday\, January 20th.    Members $50  Non Members $75 if paid by January 20.   Members $60  Non Members $85 after January 20.
LOCATION:
UID:e.1212.2663
SEQUENCE:3
DTSTAMP:20260425T124651Z
URL:http://business.beaufortchamber.org/events/details/2009-annual-meeting-civitas-awards-for-business-excellence-01-23-2009-2663
END:VEVENT

END:VCALENDAR
