BEGIN:VCALENDAR
VERSION:2.0
PRODID:-//ChamberMaster//Event Calendar 2.0//EN
METHOD:PUBLISH
X-PUBLISHED-TTL:P3D
REFRESH-INTERVAL:P3D
CALSCALE:GREGORIAN
BEGIN:VEVENT
DTSTART;VALUE=DATE:20090917
DTEND;VALUE=DATE:20090918
TRANSP:TRANSPARENT
X-MICROSOFT-CDO-ALLDAYEVENT:TRUE
SUMMARY:2009 Beaufort Regional Chamber Sept - Membership Committee
DESCRIPTION:
X-ALT-DESC;FMTTYPE=text/html:
LOCATION:
UID:e.1212.1089
SEQUENCE:3
DTSTAMP:20260424T234935Z
URL:http://business.beaufortchamber.org/events/details/2009-beaufort-regional-chamber-sept-membership-committee-09-17-2009-1089
END:VEVENT

END:VCALENDAR
