BEGIN:VCALENDAR
VERSION:2.0
PRODID:-//ChamberMaster//Event Calendar 2.0//EN
METHOD:PUBLISH
X-PUBLISHED-TTL:P3D
REFRESH-INTERVAL:P3D
CALSCALE:GREGORIAN
BEGIN:VEVENT
DTSTART;VALUE=DATE:20100610
DTEND;VALUE=DATE:20100611
TRANSP:TRANSPARENT
X-MICROSOFT-CDO-ALLDAYEVENT:TRUE
SUMMARY:2010 BRCOC BAH - 700 Bay Street
DESCRIPTION:Members $10  Future Members $20
X-ALT-DESC;FMTTYPE=text/html:Members $10  Future Members $20
LOCATION:
UID:e.1212.3818
SEQUENCE:3
DTSTAMP:20260424T103803Z
URL:http://business.beaufortchamber.org/events/details/2010-brcoc-bah-700-bay-street-06-10-2010-3818
END:VEVENT

END:VCALENDAR
