BEGIN:VCALENDAR
VERSION:2.0
PRODID:-//ChamberMaster//Event Calendar 2.0//EN
METHOD:PUBLISH
X-PUBLISHED-TTL:P3D
REFRESH-INTERVAL:P3D
CALSCALE:GREGORIAN
BEGIN:VEVENT
DTSTART:20111201T230000Z
DTEND:20111202T010000Z
X-MICROSOFT-CDO-ALLDAYEVENT:FALSE
SUMMARY:2011 Annual Legislative Reception
DESCRIPTION:Join us for our annual legislative reception.  Local\, state and federal elected officials will be presenting and answering your questions and concerns.     An     An opportunity will also be provided for our state legislative delegation to share their thoughts on the upcoming session of the General Assembly.  This is an exceptional occasion to network with our government and business leaders.
X-ALT-DESC;FMTTYPE=text/html:<p style="text-align: center">\n	<span style="font-family: times new roman"><strong><span style="font-size: 14px">Join us for our annual legislative reception.&nbsp\; Local\, state and federal elected officials will be presenting and answering your questions and concerns.&nbsp\; <span _fck_bookmark="1" style="display: none">&nbsp\;&nbsp\; An&nbsp\;&nbsp\;&nbsp\;&nbsp\; </span>An opportunity will also be provided for our state legislative delegation to share their thoughts on the upcoming session of the General Assembly.&nbsp\; This is an exceptional occasion to network&nbsp\;with our&nbsp\;government and business leaders.&nbsp\;</span></strong></span></p>\n
LOCATION:Historic Beaufort Arsenal 713 Craven Street Downtown Beaufort\, SC
UID:e.1212.4338
SEQUENCE:3
DTSTAMP:20260423T055504Z
URL:http://business.beaufortchamber.org/events/details/2011-annual-legislative-reception-12-01-2011-4338
END:VEVENT

END:VCALENDAR
