BEGIN:VCALENDAR
VERSION:2.0
PRODID:-//ChamberMaster//Event Calendar 2.0//EN
METHOD:PUBLISH
X-PUBLISHED-TTL:P3D
REFRESH-INTERVAL:P3D
CALSCALE:GREGORIAN
BEGIN:VEVENT
DTSTART;VALUE=DATE:20110210
DTEND;VALUE=DATE:20110211
TRANSP:TRANSPARENT
X-MICROSOFT-CDO-ALLDAYEVENT:TRUE
SUMMARY:2011 Beaufort County - DMO Q2 15% State ATAX ALL
DESCRIPTION:DMO Q2 15% State ATAX ALL
X-ALT-DESC;FMTTYPE=text/html:DMO Q2 15% State ATAX ALL
LOCATION:
UID:e.1212.3922
SEQUENCE:3
DTSTAMP:20260423T231439Z
URL:http://business.beaufortchamber.org/events/details/2011-beaufort-county-dmo-q2-15-state-atax-all-02-10-2011-3922
END:VEVENT

END:VCALENDAR
