BEGIN:VCALENDAR
VERSION:2.0
PRODID:-//ChamberMaster//Event Calendar 2.0//EN
METHOD:PUBLISH
X-PUBLISHED-TTL:P3D
REFRESH-INTERVAL:P3D
CALSCALE:GREGORIAN
BEGIN:VEVENT
DTSTART:20110920T160000Z
DTEND:20110920T233000Z
X-MICROSOFT-CDO-ALLDAYEVENT:FALSE
SUMMARY:2011 Business Expo
DESCRIPTION:Premier Networking Event for Businesses in the Beaufort region!
X-ALT-DESC;FMTTYPE=text/html:Premier Networking Event for Businesses in the Beaufort region!&nbsp\; 
LOCATION:Beaufort Holiday Inn
UID:e.1212.3902
SEQUENCE:3
DTSTAMP:20260423T111059Z
URL:http://business.beaufortchamber.org/events/details/2011-business-expo-09-20-2011-3902
END:VEVENT

END:VCALENDAR
