BEGIN:VCALENDAR
VERSION:2.0
PRODID:-//ChamberMaster//Event Calendar 2.0//EN
METHOD:PUBLISH
X-PUBLISHED-TTL:P3D
REFRESH-INTERVAL:P3D
CALSCALE:GREGORIAN
BEGIN:VEVENT
DTSTART;VALUE=DATE:20110120
DTEND;VALUE=DATE:20110121
TRANSP:TRANSPARENT
X-MICROSOFT-CDO-ALLDAYEVENT:TRUE
SUMMARY:2011 January Teacher Appreciation Day
DESCRIPTION:Generic to be used for all Teacher Appreciation Day - per Amy
X-ALT-DESC;FMTTYPE=text/html:Generic to be used for all Teacher Appreciation Day - per Amy
LOCATION:
UID:e.1212.3899
SEQUENCE:3
DTSTAMP:20260423T233840Z
URL:http://business.beaufortchamber.org/events/details/2011-january-teacher-appreciation-day-01-20-2011-3899
END:VEVENT

END:VCALENDAR
