BEGIN:VCALENDAR
VERSION:2.0
PRODID:-//ChamberMaster//Event Calendar 2.0//EN
METHOD:PUBLISH
X-PUBLISHED-TTL:P3D
REFRESH-INTERVAL:P3D
CALSCALE:GREGORIAN
BEGIN:VEVENT
DTSTART:20110910T150000Z
DTEND:20110910T190000Z
X-MICROSOFT-CDO-ALLDAYEVENT:FALSE
SUMMARY:2011 Military Appreciation Day
DESCRIPTION:Generic to be used for all Military Appreciation Day - per Amy
X-ALT-DESC;FMTTYPE=text/html:Generic to be used for all Military Appreciation Day - per Amy
LOCATION:
UID:e.1212.3904
SEQUENCE:3
DTSTAMP:20260423T111059Z
URL:http://business.beaufortchamber.org/events/details/2011-military-appreciation-day-09-10-2011-3904
END:VEVENT

END:VCALENDAR
