BEGIN:VCALENDAR
VERSION:2.0
PRODID:-//ChamberMaster//Event Calendar 2.0//EN
METHOD:PUBLISH
X-PUBLISHED-TTL:P3D
REFRESH-INTERVAL:P3D
CALSCALE:GREGORIAN
BEGIN:VEVENT
DTSTART;VALUE=DATE:20110915
DTEND;VALUE=DATE:20110916
TRANSP:TRANSPARENT
X-MICROSOFT-CDO-ALLDAYEVENT:TRUE
SUMMARY:2011 September Teacher Appreciation Day
DESCRIPTION:Generic to be used for all September Teacher Appreciation Day - per Amy
X-ALT-DESC;FMTTYPE=text/html:Generic to be used for all September Teacher Appreciation Day - per Amy
LOCATION:
UID:e.1212.3900
SEQUENCE:3
DTSTAMP:20260423T111053Z
URL:http://business.beaufortchamber.org/events/details/2011-september-teacher-appreciation-day-09-15-2011-3900
END:VEVENT

END:VCALENDAR
