BEGIN:VCALENDAR
VERSION:2.0
PRODID:-//ChamberMaster//Event Calendar 2.0//EN
METHOD:PUBLISH
X-PUBLISHED-TTL:P3D
REFRESH-INTERVAL:P3D
CALSCALE:GREGORIAN
BEGIN:VEVENT
DTSTART;VALUE=DATE:20101214
DTEND;VALUE=DATE:20101215
TRANSP:TRANSPARENT
X-MICROSOFT-CDO-ALLDAYEVENT:TRUE
SUMMARY:2011 Tap Sales
DESCRIPTION:Generic to be used for all 2011 Tap Sales per Amy
X-ALT-DESC;FMTTYPE=text/html:Generic to be used for all 2011 Tap Sales per Amy
LOCATION:
UID:e.1212.3906
SEQUENCE:3
DTSTAMP:20260424T010642Z
URL:http://business.beaufortchamber.org/events/details/2011-tap-sales-12-14-2010-3906
END:VEVENT

END:VCALENDAR
