BEGIN:VCALENDAR
VERSION:2.0
PRODID:-//ChamberMaster//Event Calendar 2.0//EN
METHOD:PUBLISH
X-PUBLISHED-TTL:P3D
REFRESH-INTERVAL:P3D
CALSCALE:GREGORIAN
BEGIN:VEVENT
DTSTART:20120918T160000Z
DTEND:20120918T210000Z
X-MICROSOFT-CDO-ALLDAYEVENT:FALSE
SUMMARY:2012 Business Expo
DESCRIPTION:Business Expo 2012 is the premier networking event in the Beaufort region. Companies of all\n\nsizes and industries will present their products and services during this exciting event.\n\nBusiness Expo 2012 is an ideal opportunity to grow existing relationships and find new\n\nsuppliers\, customers\, and partners.
X-ALT-DESC;FMTTYPE=text/html:<strong><em><span style="font-size: 12pt"><span style="color: windowtext"><span style="font-family: constantia-bolditalic\, sans-serif">Business Expo 2012</span></span></span></em></strong> <span style="font-size: 11pt"><span style="color: windowtext"><span style="font-family: constantia\, serif">is the premier networking event in the Beaufort region. Companies of all</span></span></span><br />\n<span style="font-size: 11pt"><span style="color: windowtext"><span style="font-family: constantia\, serif">sizes and industries will present their products and services during this exciting event.</span></span></span><br />\n<strong><em><span style="font-size: 12pt"><span style="color: windowtext"><span style="font-family: constantia-bolditalic\, sans-serif">Business Expo 2012</span></span></span></em></strong> <span style="font-size: 11pt"><span style="color: windowtext"><span style="font-family: constantia\, serif">is an ideal opportunity to grow existing relationships and find new</span></span></span><br />\n<span style="font-size: 11pt"><span style="color: windowtext"><span style="font-family: constantia\, serif">suppliers\, customers\, and partners.</span></span></span><br />\n
LOCATION:Holiday Inn - Beaufort 2225 Boundary Street Beaufort\, SC 29902
UID:e.1212.3939
SEQUENCE:3
DTSTAMP:20260422T174754Z
URL:http://business.beaufortchamber.org/events/details/2012-business-expo-09-18-2012-3939
END:VEVENT

END:VCALENDAR
