BEGIN:VCALENDAR
VERSION:2.0
PRODID:-//ChamberMaster//Event Calendar 2.0//EN
METHOD:PUBLISH
X-PUBLISHED-TTL:P3D
REFRESH-INTERVAL:P3D
CALSCALE:GREGORIAN
BEGIN:VEVENT
DTSTART:20120629T220000Z
DTEND:20120630T010000Z
X-MICROSOFT-CDO-ALLDAYEVENT:FALSE
SUMMARY:2012 Civitas Awards Annual Meeting
DESCRIPTION:The Beaufort Regional Chamber of Commerce annually recognizes businesses\, individuals and organizations deemed exemplary in our region through our Civitas Awards.  Since 2002\, the Civitas Awards have celebrated leadership in various community sectors.  The Civitas program is in line with the Chamber mission to lead the enhancement\, expansion and diversification of the business community.  The Chamber is also proud to be part of the Teachers of the Year program in which we honor the outstanding teachers who ensure excellence in education for every learner and who make a positive impact on our students.
X-ALT-DESC;FMTTYPE=text/html:The Beaufort Regional Chamber of Commerce annually recognizes businesses\, individuals and organizations deemed exemplary in our region through our Civitas Awards.&nbsp\; Since 2002\, the Civitas Awards have celebrated leadership in various community sectors.&nbsp\; The Civitas program is in line with the Chamber mission to lead the enhancement\, expansion and diversification of the business community.&nbsp\; The Chamber is also proud to be part of the Teachers of the Year program in which we honor the outstanding teachers who ensure excellence in education for every learner and who make a positive impact on our students.
LOCATION:Dataw Island Club 100 Dataw Club Drive Dataw Island\, SC 29920
UID:e.1212.4519
SEQUENCE:3
DTSTAMP:20260422T204705Z
URL:http://business.beaufortchamber.org/events/details/2012-civitas-awards-annual-meeting-06-29-2012-4519
END:VEVENT

END:VCALENDAR
