BEGIN:VCALENDAR
VERSION:2.0
PRODID:-//ChamberMaster//Event Calendar 2.0//EN
METHOD:PUBLISH
X-PUBLISHED-TTL:P3D
REFRESH-INTERVAL:P3D
CALSCALE:GREGORIAN
BEGIN:VEVENT
DTSTART;VALUE=DATE:20130503
DTEND;VALUE=DATE:20130504
TRANSP:TRANSPARENT
X-MICROSOFT-CDO-ALLDAYEVENT:TRUE
SUMMARY:A Taste of Beaufort
DESCRIPTION:A Taste of Beaufort - Music\, Arts & Seafood Festival.  A SAVORY RETREAT.  Experience the essence of beautiful Beaufort!
X-ALT-DESC;FMTTYPE=text/html:A Taste of Beaufort - Music\, Arts &amp\; Seafood Festival.&nbsp\; A SAVORY RETREAT.&nbsp\; Experience the essence of beautiful Beaufort!&nbsp\;
LOCATION:Henry C. Chambers Waterfront Park\, Historic Downtown Beaufort
UID:e.1212.4730
SEQUENCE:3
DTSTAMP:20260422T031848Z
URL:http://business.beaufortchamber.org/events/details/a-taste-of-beaufort-05-03-2013-4730
END:VEVENT

END:VCALENDAR
