BEGIN:VCALENDAR
VERSION:2.0
PRODID:-//ChamberMaster//Event Calendar 2.0//EN
METHOD:PUBLISH
X-PUBLISHED-TTL:P3D
REFRESH-INTERVAL:P3D
CALSCALE:GREGORIAN
BEGIN:VEVENT
DTSTART:20130504T150000Z
DTEND:20130504T210000Z
X-MICROSOFT-CDO-ALLDAYEVENT:FALSE
SUMMARY:A Taste of Beaufort
DESCRIPTION:Fun\, Food\, Music for the whole family!  Bring the family downtown to enjoy traditional and innovative food choices being offered by our local restaurants.  Sample the many different "tastes" of Beaufort!  From local seafood to international food offerings\, you are sure to find a new favorite dish!  Beer\, wine and soft drinks will be available.  Food and drink vendors will accept tickets that you can purchase at the ticket booths for $1 each.  Items will be sold for 2-7 tickets.  Live music will be provided on the Pavilion Stage and children's activities \, which include Jumpers and slides\, will be located near the playground area.  Also be sure to visit the Arts & Crafts Market.
X-ALT-DESC;FMTTYPE=text/html:<p>\n	Fun\, Food\, Music for the whole family!&nbsp\; Bring the family downtown to enjoy traditional and innovative food choices being offered by our local restaurants.&nbsp\; Sample the many different &quot\;tastes&quot\; of Beaufort!&nbsp\; From local seafood to international food offerings\, you are sure to find&nbsp\;a new favorite dish!&nbsp\; Beer\, wine and soft drinks will be available.&nbsp\; Food and drink vendors will accept tickets that you can purchase at the ticket booths for $1 each.&nbsp\; Items will be sold for 2-7 tickets.&nbsp\; Live music will be provided on the Pavilion Stage and children&#39\;s activities \, which include Jumpers and slides\, will be located near the playground area.&nbsp\; Also be sure to visit the Arts &amp\; Crafts Market.</p>\n
LOCATION:
UID:e.1212.4731
SEQUENCE:3
DTSTAMP:20260422T031740Z
URL:http://business.beaufortchamber.org/events/details/a-taste-of-beaufort-05-04-2013-4731
END:VEVENT

END:VCALENDAR
