BEGIN:VCALENDAR
VERSION:2.0
PRODID:-//ChamberMaster//Event Calendar 2.0//EN
METHOD:PUBLISH
X-PUBLISHED-TTL:P3D
REFRESH-INTERVAL:P3D
CALSCALE:GREGORIAN
BEGIN:VEVENT
DTSTART:20130808T120000Z
DTEND:20130808T140000Z
X-MICROSOFT-CDO-ALLDAYEVENT:FALSE
SUMMARY:Ambassador Meeting
DESCRIPTION:Arsenal Grand Hall
X-ALT-DESC;FMTTYPE=text/html:Arsenal Grand Hall
LOCATION:
UID:e.1212.5090
SEQUENCE:3
DTSTAMP:20260421T214054Z
URL:http://business.beaufortchamber.org/events/details/ambassador-meeting-08-08-2013-5090
END:VEVENT

END:VCALENDAR
