BEGIN:VCALENDAR
VERSION:2.0
PRODID:-//ChamberMaster//Event Calendar 2.0//EN
METHOD:PUBLISH
X-PUBLISHED-TTL:P3D
REFRESH-INTERVAL:P3D
CALSCALE:GREGORIAN
BEGIN:VEVENT
DTSTART;VALUE=DATE:20100921
DTEND;VALUE=DATE:20100922
TRANSP:TRANSPARENT
X-MICROSOFT-CDO-ALLDAYEVENT:TRUE
SUMMARY:Amy Kaylor Reimbursement for Chamber
DESCRIPTION:We gave her a check and she re paid it \nDo as Misc Deposit per Myrna
X-ALT-DESC;FMTTYPE=text/html:We gave her a check and she re paid it \nDo as Misc Deposit per Myrna
LOCATION:
UID:e.1212.3856
SEQUENCE:3
DTSTAMP:20260424T053905Z
URL:http://business.beaufortchamber.org/events/details/amy-kaylor-reimbursement-for-chamber-09-21-2010-3856
END:VEVENT

END:VCALENDAR
