BEGIN:VCALENDAR
VERSION:2.0
PRODID:-//ChamberMaster//Event Calendar 2.0//EN
METHOD:PUBLISH
X-PUBLISHED-TTL:P3D
REFRESH-INTERVAL:P3D
CALSCALE:GREGORIAN
BEGIN:VEVENT
DTSTART:20120412T213000Z
DTEND:20120412T230000Z
X-MICROSOFT-CDO-ALLDAYEVENT:FALSE
SUMMARY:April Business After Hours - Oldfield Club
DESCRIPTION:Relationship building is how business is done in Beaufort. Expose your business to a variety of industries and professionals in a high-energy social atmosphere. Business After Hours is a staple of the Chamber members' calendars. This after hours networking event for professionals is held monthly from 5:30 - 7 p.m. at various locations throughout the Beaufort region. Join us this month at Oldifeld Club!\n\n\n\nApril's Business After Hours\, hosted by Oldfield Club\, will feature an intercambio\, the Spanish word for "exchange"\, as part of our Hispanic business initiative with La Isla Magazine.  We hope this will be the first step in helping your business reach an even larger network of businesses.  Additionally\, Oldfield is preparing a menu for the event that will span the many different segments of Hispanic culture.
X-ALT-DESC;FMTTYPE=text/html:<span style="font-size:12px\;">Relationship building is how business is done in Beaufort. Expose your business to a variety of industries and professionals in a high-energy social atmosphere. Business After Hours is a staple of the Chamber members&#39\; calendars. This after hours networking event for professionals is held monthly from 5:30 - 7 p.m. at various locations throughout the&nbsp\;Beaufort region. Join us this month at Oldifeld Club!<br />\n<br />\n<span style="font-family: calibri\,sans-serif\;">April&#39\;s Business After Hours\, hosted by Oldfield Club\, will feature an <em><span style="font-family: calibri\,sans-serif\;">intercambio</span></em>\, the Spanish word for &quot\;exchange&quot\;\, as part of our Hispanic business initiative with <em><span style="font-family: calibri\,sans-serif\;">La Isla Magazine.&nbsp\; </span></em></span>We hope this will be the first step in helping your business reach an even larger network of businesses.&nbsp\; Additionally\, Oldfield is preparing a menu for the event that will span the many different segments of Hispanic culture. </span>
LOCATION:Oldfield Club 136 Oldfield Way Okatie\, SC 29909
UID:e.1212.4517
SEQUENCE:3
DTSTAMP:20260422T235335Z
URL:http://business.beaufortchamber.org/events/details/april-business-after-hours-oldfield-club-04-12-2012-4517
END:VEVENT

END:VCALENDAR
