BEGIN:VCALENDAR
VERSION:2.0
PRODID:-//ChamberMaster//Event Calendar 2.0//EN
METHOD:PUBLISH
X-PUBLISHED-TTL:P3D
REFRESH-INTERVAL:P3D
CALSCALE:GREGORIAN
BEGIN:VEVENT
DTSTART:20111018T120000Z
DTEND:20111018T133000Z
X-MICROSOFT-CDO-ALLDAYEVENT:FALSE
SUMMARY:B4B
DESCRIPTION:
X-ALT-DESC;FMTTYPE=text/html:
LOCATION:
UID:e.1212.4313
SEQUENCE:3
DTSTAMP:20260423T092223Z
URL:http://business.beaufortchamber.org/events/details/b4b-10-18-2011-4313
END:VEVENT

END:VCALENDAR
