BEGIN:VCALENDAR
VERSION:2.0
PRODID:-//ChamberMaster//Event Calendar 2.0//EN
METHOD:PUBLISH
X-PUBLISHED-TTL:P3D
REFRESH-INTERVAL:P3D
CALSCALE:GREGORIAN
BEGIN:VEVENT
DTSTART;VALUE=DATE:20100915
DTEND;VALUE=DATE:20100916
TRANSP:TRANSPARENT
X-MICROSOFT-CDO-ALLDAYEVENT:TRUE
SUMMARY:Beaufort County FY2011 Local ATAX Distribution
DESCRIPTION:
X-ALT-DESC;FMTTYPE=text/html:
LOCATION:
UID:e.1212.3857
SEQUENCE:3
DTSTAMP:20260424T053943Z
URL:http://business.beaufortchamber.org/events/details/beaufort-county-fy2011-local-atax-distribution-09-15-2010-3857
END:VEVENT

END:VCALENDAR
