BEGIN:VCALENDAR
VERSION:2.0
PRODID:-//ChamberMaster//Event Calendar 2.0//EN
METHOD:PUBLISH
X-PUBLISHED-TTL:P3D
REFRESH-INTERVAL:P3D
CALSCALE:GREGORIAN
BEGIN:VEVENT
DTSTART;VALUE=DATE:20120117
DTEND;VALUE=DATE:20120118
TRANSP:TRANSPARENT
X-MICROSOFT-CDO-ALLDAYEVENT:TRUE
SUMMARY:Beaufort Day at the State House
DESCRIPTION:Join your Chamber of Commerce for a legislative trip to Columbia!
X-ALT-DESC;FMTTYPE=text/html:Join your Chamber of Commerce for a legislative trip to Columbia!&nbsp\; 
LOCATION:1100 Gervais Street\, Columbia The State House
UID:e.1212.4358
SEQUENCE:3
DTSTAMP:20260423T040955Z
URL:http://business.beaufortchamber.org/events/details/beaufort-day-at-the-state-house-01-17-2012-4358
END:VEVENT

END:VCALENDAR
