BEGIN:VCALENDAR
VERSION:2.0
PRODID:-//ChamberMaster//Event Calendar 2.0//EN
METHOD:PUBLISH
X-PUBLISHED-TTL:P3D
REFRESH-INTERVAL:P3D
CALSCALE:GREGORIAN
BEGIN:VEVENT
DTSTART;VALUE=DATE:20100321
DTEND;VALUE=DATE:20100322
TRANSP:TRANSPARENT
X-MICROSOFT-CDO-ALLDAYEVENT:TRUE
SUMMARY:Beaufort Hilton Garden Inn - Beaufort Bridal Show
DESCRIPTION:We are planning to showcase the best Beaufort has to offer ! There will be local vendors including a fashion show\, bridal gowns\, hotels\, live music\, ice carving demo\, photographers\, florists\, caterers\, bakers\, venues\, wedding planners\, much more and door prizes.\nCost: Free and open to the public
X-ALT-DESC;FMTTYPE=text/html:We are planning to showcase the best Beaufort has to offer ! There will be local vendors including a fashion show\, bridal gowns\, hotels\, live music\, ice carving demo\, photographers\, florists\, caterers\, bakers\, venues\, wedding planners\, much more and door prizes.\nCost: Free and open to the public
LOCATION:
UID:e.1212.3784
SEQUENCE:3
DTSTAMP:20260424T155349Z
URL:http://business.beaufortchamber.org/events/details/beaufort-hilton-garden-inn-beaufort-bridal-show-03-21-2010-3784
END:VEVENT

END:VCALENDAR
