BEGIN:VCALENDAR
VERSION:2.0
PRODID:-//ChamberMaster//Event Calendar 2.0//EN
METHOD:PUBLISH
X-PUBLISHED-TTL:P3D
REFRESH-INTERVAL:P3D
CALSCALE:GREGORIAN
BEGIN:VEVENT
DTSTART:20111130T223000Z
DTEND:20111201T003000Z
X-MICROSOFT-CDO-ALLDAYEVENT:FALSE
SUMMARY:Beaufort Leadership History - Leadership Beaufort Alumni Association
DESCRIPTION:A noted historian and the city's current mayor will join longtime former Mayor Henry Chambers in a discussion of Beaufort leaders past and present at a free Leadership Beaufort Alumni Association forum Nov. 30.   Larry Rowland\, history professor emeritus at the University of South Carolina Beaufort\, and Mayor Billy Keyserling also will participate in the event\, which begins at 6 p.m. following a social period that starts at 5:30 p.m. The event\, which is open to the public\, will be held in The Arsenal.\n\n\n\nThe panel will discuss the history of Beaufort's leaders.  Keyserling\, a former state legislator and city councilman\, has been mayor since 2008. Chambers was mayor from 1969 to 1990\, and his tenure included conversion of the city's run-down waterfront to the public park that now bears his name. Rowland is an authority on local and state history and is one of the authors of the 1996 book "The History of Beaufort County\, South Carolina: 1514-1861."  \n\n \n\nRSVP appreciated for planning purposes but not required.  Information: Contact Charlotte Gonzalez\, LBAA secretary\, at 843-575-2366 or  charlotte.gonzalez@yahoo.com.
X-ALT-DESC;FMTTYPE=text/html:<span style="font-family:verdana\,sans-serif\;"><span style="font-size:9.0pt\;">A noted historian and the city&rsquo\;s current mayor will join longtime former Mayor Henry Chambers in a discussion of Beaufort leaders past and present at a free Leadership Beaufort Alumni Association forum Nov. 30.&nbsp\;&nbsp\; Larry Rowland\, history professor emeritus at the University of South Carolina Beaufort\, and Mayor Billy Keyserling also will participate in the event\, which begins at 6 p.m. following a social period that starts at 5:30 p.m. The event\, which is open to the public\, will be held in The Arsenal.</span></span><br />\n<br />\n<span style="font-family:verdana\,sans-serif\;"><span style="font-size:9.0pt\;">The panel will discuss the history of Beaufort&rsquo\;s leaders.&nbsp\; Keyserling\, a former state legislator and city councilman\, has been mayor since 2008. Chambers was mayor from 1969 to 1990\, and his tenure included conversion of the city&rsquo\;s run-down waterfront to the public park that now bears his name. Rowland is an authority on local and state history and is one of the authors of the 1996 book &ldquo\;The History of Beaufort County\, South Carolina: 1514-1861.&rdquo\;&nbsp\; </span></span><br />\n&nbsp\;<br />\n<span style="font-family:verdana\,sans-serif\;"><span style="font-size:9.0pt\;">RSVP appreciated for planning purposes but not required.&nbsp\; Information: Contact Charlotte Gonzalez\, LBAA secretary\, at 843-575-2366 or&nbsp\; </span></span><a href="mailto:charlotte.gonzalez@yahoo.com"><span style="font-family:verdana\,sans-serif\;"><span style="font-size:9.0pt\;">charlotte.gonzalez@yahoo.com</span></span></a><span style="font-family:verdana\,sans-serif\;"><span style="font-size:9.0pt\;">.</span></span>
LOCATION:Beaufort Arsenal
UID:e.1212.4337
SEQUENCE:3
DTSTAMP:20260423T074926Z
URL:http://business.beaufortchamber.org/events/details/beaufort-leadership-history-leadership-beaufort-alumni-association-11-30-2011-4337
END:VEVENT

END:VCALENDAR
