BEGIN:VCALENDAR
VERSION:2.0
PRODID:-//ChamberMaster//Event Calendar 2.0//EN
METHOD:PUBLISH
X-PUBLISHED-TTL:P3D
REFRESH-INTERVAL:P3D
CALSCALE:GREGORIAN
BEGIN:VEVENT
DTSTART:20140206T133000Z
DTEND:20140207T023000Z
X-MICROSOFT-CDO-ALLDAYEVENT:FALSE
SUMMARY:Beaufort Networking
DESCRIPTION:Identity theft in the workplace. Discussion about how this growing crime is affecting businesses and their employees.\n\n\n\nSpeaker: Lou Vellia\, Harvard Risk Management
X-ALT-DESC;FMTTYPE=text/html:Identity theft in the workplace. Discussion about how this growing crime is affecting businesses and their employees.<br />\n<br />\nSpeaker: Lou Vellia\, Harvard Risk Management
LOCATION:Beaufort Hilton Garden Inn 1500 Queen Street\, Beaufort
UID:e.1212.5174
SEQUENCE:3
DTSTAMP:20260421T131906Z
URL:http://business.beaufortchamber.org/events/details/beaufort-networking-02-06-2014-5174
END:VEVENT

END:VCALENDAR
