BEGIN:VCALENDAR
VERSION:2.0
PRODID:-//ChamberMaster//Event Calendar 2.0//EN
METHOD:PUBLISH
X-PUBLISHED-TTL:P3D
REFRESH-INTERVAL:P3D
CALSCALE:GREGORIAN
BEGIN:VEVENT
DTSTART:20140403T123000Z
DTEND:20140403T133000Z
X-MICROSOFT-CDO-ALLDAYEVENT:FALSE
SUMMARY:Beaufort Networking
DESCRIPTION:Topic: The Spanish Moss Trail - Preserving a Path of Beauty\n\nDean Moss will take us from the history of the Magnolia Railroad line\, to how this abandoned rail bed between Port Royal and Yemassee is developing into the pedestrian and bike trail connecting 14 miles of our community -- known as the Spanish Moss Trail.\n\nSpeaker: Dean Moss\, Executive Director
X-ALT-DESC;FMTTYPE=text/html:Topic: The Spanish Moss Trail - Preserving a Path of Beauty<br />\nDean Moss will take us from the history of the Magnolia Railroad line\, to how this abandoned rail bed between Port Royal and Yemassee is developing into the pedestrian and bike trail connecting 14 miles of our community --&nbsp\;known as the Spanish Moss Trail.<br />\nSpeaker: Dean Moss\, Executive Director
LOCATION:Beaufort Hilton Garden Inn\, 1500 Queen Street\, Beaufort
UID:e.1212.5288
SEQUENCE:3
DTSTAMP:20260423T091121Z
URL:http://business.beaufortchamber.org/events/details/beaufort-networking-04-03-2014-5288
END:VEVENT

END:VCALENDAR
