BEGIN:VCALENDAR
VERSION:2.0
PRODID:-//ChamberMaster//Event Calendar 2.0//EN
METHOD:PUBLISH
X-PUBLISHED-TTL:P3D
REFRESH-INTERVAL:P3D
CALSCALE:GREGORIAN
BEGIN:VEVENT
DTSTART:20130606T123000Z
DTEND:20130606T133000Z
X-MICROSOFT-CDO-ALLDAYEVENT:FALSE
SUMMARY:Beaufort Networking
DESCRIPTION:Speaker:  Katheryn Wonder\, Consumers' Choice Health Plan\n\n\n\nFind out how healthcare changes in Washington can impact your business.\n\n\n\nFree networking opportunity for members.\n\n\n\nBring your business cards!
X-ALT-DESC;FMTTYPE=text/html:Speaker:&nbsp\; Katheryn Wonder\, Consumers&#39\; Choice Health Plan<br />\n<br />\nFind out how healthcare changes in Washington can impact your business.<br />\n<br />\nFree networking opportunity for members.<br />\n<br />\nBring your business cards!<br />\n<br />\n
LOCATION:Hilton Garden Inn\, 1500 Queen Street\, Beaufort
UID:e.1212.4944
SEQUENCE:3
DTSTAMP:20260422T011900Z
URL:http://business.beaufortchamber.org/events/details/beaufort-networking-06-06-2013-4944
END:VEVENT

END:VCALENDAR
