BEGIN:VCALENDAR
VERSION:2.0
PRODID:-//ChamberMaster//Event Calendar 2.0//EN
METHOD:PUBLISH
X-PUBLISHED-TTL:P3D
REFRESH-INTERVAL:P3D
CALSCALE:GREGORIAN
BEGIN:VEVENT
DTSTART:20131205T133000Z
DTEND:20131205T143000Z
X-MICROSOFT-CDO-ALLDAYEVENT:FALSE
SUMMARY:Beaufort Networking
DESCRIPTION:Please join us for our December Beaufort Networking event. Our speaker will be Merrill Donohoo\, General Aviation Ambassador with the South Carolina Aeronautics Commission. We will learn how business men and women are enhancing their productivity through the use of General Aviation airplanes. And find out what it takes to lean how to fly\, safety issues and follow along on a trip to Orlando\, Florida.\n\n\n\nWe hope you will join us and Bring Your Business Cards!
X-ALT-DESC;FMTTYPE=text/html:Please join us for our December Beaufort Networking event. Our speaker will be Merrill Donohoo\, General Aviation Ambassador with the South Carolina Aeronautics Commission. We will learn how business men and women are enhancing their productivity through the use of General Aviation&nbsp\;airplanes. And find out what it takes to lean how to fly\, safety issues and follow along on a trip to Orlando\, Florida.<br />\n<br />\nWe hope you will join us and Bring Your Business Cards!
LOCATION:Beaufort Hilton Garden Inn 1500 Queen Street
UID:e.1212.5138
SEQUENCE:3
DTSTAMP:20260421T145545Z
URL:http://business.beaufortchamber.org/events/details/beaufort-networking-12-05-2013-5138
END:VEVENT

END:VCALENDAR
