BEGIN:VCALENDAR
VERSION:2.0
PRODID:-//ChamberMaster//Event Calendar 2.0//EN
METHOD:PUBLISH
X-PUBLISHED-TTL:P3D
REFRESH-INTERVAL:P3D
CALSCALE:GREGORIAN
BEGIN:VEVENT
DTSTART:20131003T120000Z
DTEND:20131003T133000Z
X-MICROSOFT-CDO-ALLDAYEVENT:FALSE
SUMMARY:Beaufort Networking - Friends of Hunting Island
DESCRIPTION:Friends of Hunting Island
X-ALT-DESC;FMTTYPE=text/html:Friends of Hunting Island 
LOCATION:
UID:e.1212.5023
SEQUENCE:3
DTSTAMP:20260421T182633Z
URL:http://business.beaufortchamber.org/events/details/beaufort-networking-friends-of-hunting-island-10-03-2013-5023
END:VEVENT

END:VCALENDAR
