BEGIN:VCALENDAR
VERSION:2.0
PRODID:-//ChamberMaster//Event Calendar 2.0//EN
METHOD:PUBLISH
X-PUBLISHED-TTL:P3D
REFRESH-INTERVAL:P3D
CALSCALE:GREGORIAN
BEGIN:VEVENT
DTSTART:20130801T123000Z
DTEND:20130801T133000Z
X-MICROSOFT-CDO-ALLDAYEVENT:FALSE
SUMMARY:Beaufort Networking - Healing Heroes of the Lowcountry Fund
DESCRIPTION:The Healing Heroes of the Lowcountry Fund\, a non-profit fund established in 2013\, to honor\, empower and support our wounded heroes\, first responders and their families/caregivers\, providing relief for financial needs that arise during hospitalization and recovery as well
X-ALT-DESC;FMTTYPE=text/html:The Healing Heroes of the Lowcountry Fund\, a non-profit fund established in 2013\, to honor\, empower and support our wounded heroes\, first responders and their families/caregivers\, providing relief for financial needs that arise during hospitalization and recovery as well
LOCATION:
UID:e.1212.5059
SEQUENCE:3
DTSTAMP:20260421T214339Z
URL:http://business.beaufortchamber.org/events/details/beaufort-networking-healing-heroes-of-the-lowcountry-fund-08-01-2013-5059
END:VEVENT

END:VCALENDAR
