BEGIN:VCALENDAR
VERSION:2.0
PRODID:-//ChamberMaster//Event Calendar 2.0//EN
METHOD:PUBLISH
X-PUBLISHED-TTL:P3D
REFRESH-INTERVAL:P3D
CALSCALE:GREGORIAN
BEGIN:VEVENT
DTSTART;VALUE=DATE:20091129
DTEND;VALUE=DATE:20091130
TRANSP:TRANSPARENT
X-MICROSOFT-CDO-ALLDAYEVENT:TRUE
SUMMARY:Beaufort Performing Arts on Stage - The Hallelujah Singers - Gullah Christmas
DESCRIPTION:Marlena Smalls founded the group of singers in 1990 to preserve the Gullah culture of the South Carolina Sea Islands.  Help kick off the holiday season by enjoying this ensemble of national art providers offering enrichment through preserving and celebrating with language and traditions indelibly linked to West African heritage.  \nTicket Office hours are Mon - Fri 10am - 5pm.\nCost: $30/$25/$20  Call or go on line for tickets and seating options.
X-ALT-DESC;FMTTYPE=text/html:Marlena Smalls founded the group of singers in 1990 to preserve the Gullah culture of the South Carolina Sea Islands.  Help kick off the holiday season by enjoying this ensemble of national art providers offering enrichment through preserving and celebrating with language and traditions indelibly linked to West African heritage.  \nTicket Office hours are Mon - Fri 10am - 5pm.\nCost: $30/$25/$20  Call or go on line for tickets and seating options.
LOCATION:
UID:e.1212.3457
SEQUENCE:3
DTSTAMP:20260424T221909Z
URL:http://business.beaufortchamber.org/events/details/beaufort-performing-arts-on-stage-the-hallelujah-singers-gullah-christmas-11-29-2009-3457
END:VEVENT

END:VCALENDAR
