BEGIN:VCALENDAR
VERSION:2.0
PRODID:-//ChamberMaster//Event Calendar 2.0//EN
METHOD:PUBLISH
X-PUBLISHED-TTL:P3D
REFRESH-INTERVAL:P3D
CALSCALE:GREGORIAN
BEGIN:VEVENT
DTSTART;VALUE=DATE:20091130
DTEND;VALUE=DATE:20091201
TRANSP:TRANSPARENT
X-MICROSOFT-CDO-ALLDAYEVENT:TRUE
SUMMARY:Beaufort Regional Chamber - Annual Legislative Reception
DESCRIPTION:Join us for an evening of meet and greet with appitizers as you mingle and talk with our elected officials from Beaufort County and the state of South Carolina\nFor questions contact Jayson at 843-525-8526 or email  jayson@beaufortsc.org \n\nCost: $35 for Members\nCost: $70 for Non-Members\nRSVP to Wesley by Thursday\, November 26
X-ALT-DESC;FMTTYPE=text/html:Join us for an evening of meet and greet with appitizers as you mingle and talk with our elected officials from Beaufort County and the state of South Carolina\nFor questions contact Jayson at 843-525-8526 or email  jayson@beaufortsc.org \n\nCost: $35 for Members\nCost: $70 for Non-Members\nRSVP to Wesley by Thursday\, November 26
LOCATION:
UID:e.1212.3611
SEQUENCE:3
DTSTAMP:20260424T204744Z
URL:http://business.beaufortchamber.org/events/details/beaufort-regional-chamber-annual-legislative-reception-11-30-2009-3611
END:VEVENT

END:VCALENDAR
