BEGIN:VCALENDAR
VERSION:2.0
PRODID:-//ChamberMaster//Event Calendar 2.0//EN
METHOD:PUBLISH
X-PUBLISHED-TTL:P3D
REFRESH-INTERVAL:P3D
CALSCALE:GREGORIAN
BEGIN:VEVENT
DTSTART;VALUE=DATE:20110414
DTEND;VALUE=DATE:20110415
TRANSP:TRANSPARENT
X-MICROSOFT-CDO-ALLDAYEVENT:TRUE
SUMMARY:Beaufort Regional Chamber - April Business After Hours
DESCRIPTION:BMH canceled but could not remove .. money was applied already
X-ALT-DESC;FMTTYPE=text/html:BMH canceled but could not remove .. money was applied already
LOCATION:
UID:e.1212.3928
SEQUENCE:3
DTSTAMP:20260423T182427Z
URL:http://business.beaufortchamber.org/events/details/beaufort-regional-chamber-april-business-after-hours-04-14-2011-3928
END:VEVENT

END:VCALENDAR
