BEGIN:VCALENDAR
VERSION:2.0
PRODID:-//ChamberMaster//Event Calendar 2.0//EN
METHOD:PUBLISH
X-PUBLISHED-TTL:P3D
REFRESH-INTERVAL:P3D
CALSCALE:GREGORIAN
BEGIN:VEVENT
DTSTART;VALUE=DATE:20090806
DTEND;VALUE=DATE:20090807
TRANSP:TRANSPARENT
X-MICROSOFT-CDO-ALLDAYEVENT:TRUE
SUMMARY:Beaufort Regional Chamber Aug - Bluffton Networking Group
DESCRIPTION:Network with fellow Chamber members.  Speaker Troy Ah Yo\,  Anderson Integrated Marketing will present  "Social Media\, How to Use It to Drive Your Business".   Free to Chamber members.
X-ALT-DESC;FMTTYPE=text/html:Network with fellow Chamber members.  Speaker Troy Ah Yo\,  Anderson Integrated Marketing will present  "Social Media\, How to Use It to Drive Your Business".   Free to Chamber members.
LOCATION:
UID:e.1212.3337
SEQUENCE:3
DTSTAMP:20260425T010606Z
URL:http://business.beaufortchamber.org/events/details/beaufort-regional-chamber-aug-bluffton-networking-group-08-06-2009-3337
END:VEVENT

END:VCALENDAR
