BEGIN:VCALENDAR
VERSION:2.0
PRODID:-//ChamberMaster//Event Calendar 2.0//EN
METHOD:PUBLISH
X-PUBLISHED-TTL:P3D
REFRESH-INTERVAL:P3D
CALSCALE:GREGORIAN
BEGIN:VEVENT
DTSTART;VALUE=DATE:20090818
DTEND;VALUE=DATE:20090819
TRANSP:TRANSPARENT
X-MICROSOFT-CDO-ALLDAYEVENT:TRUE
SUMMARY:Beaufort Regional Chamber Aug - Business 4 Breakfast
DESCRIPTION:Education in our community and state.  Please RSVP by Friday\, August 14.  Members $10   Non-Members $20.  Fee includes breakfast.
X-ALT-DESC;FMTTYPE=text/html:Education in our community and state.  Please RSVP by Friday\, August 14.  Members $10   Non-Members $20.  Fee includes breakfast.
LOCATION:
UID:e.1212.3346
SEQUENCE:3
DTSTAMP:20260425T010801Z
URL:http://business.beaufortchamber.org/events/details/beaufort-regional-chamber-aug-business-4-breakfast-08-18-2009-3346
END:VEVENT

END:VCALENDAR
