BEGIN:VCALENDAR
VERSION:2.0
PRODID:-//ChamberMaster//Event Calendar 2.0//EN
METHOD:PUBLISH
X-PUBLISHED-TTL:P3D
REFRESH-INTERVAL:P3D
CALSCALE:GREGORIAN
BEGIN:VEVENT
DTSTART;VALUE=DATE:20090820
DTEND;VALUE=DATE:20090821
TRANSP:TRANSPARENT
X-MICROSOFT-CDO-ALLDAYEVENT:TRUE
SUMMARY:Beaufort Regional Chamber Aug - Small Business Committee
DESCRIPTION:This committee works to develop resources for small businesses to operate more effectively and assist the Chamber in managing member-to-member communications.   Free to Chamber members.
X-ALT-DESC;FMTTYPE=text/html:This committee works to develop resources for small businesses to operate more effectively and assist the Chamber in managing member-to-member communications.   Free to Chamber members.
LOCATION:
UID:e.1212.2940
SEQUENCE:3
DTSTAMP:20260425T010753Z
URL:http://business.beaufortchamber.org/events/details/beaufort-regional-chamber-aug-small-business-committee-08-20-2009-2940
END:VEVENT

END:VCALENDAR
