BEGIN:VCALENDAR
VERSION:2.0
PRODID:-//ChamberMaster//Event Calendar 2.0//EN
METHOD:PUBLISH
X-PUBLISHED-TTL:P3D
REFRESH-INTERVAL:P3D
CALSCALE:GREGORIAN
BEGIN:VEVENT
DTSTART;VALUE=DATE:20100701
DTEND;VALUE=DATE:20100702
TRANSP:TRANSPARENT
X-MICROSOFT-CDO-ALLDAYEVENT:TRUE
SUMMARY:Beaufort Regional Chamber - B4B Ameris Bank Annual Sponsorship
DESCRIPTION:Annual Sponsorship for Business 4 Breakfast $800 for 7/1/2010 - 6/30/2011
X-ALT-DESC;FMTTYPE=text/html:Annual Sponsorship for Business 4 Breakfast $800 for 7/1/2010 - 6/30/2011
LOCATION:
UID:e.1212.3866
SEQUENCE:3
DTSTAMP:20260424T091049Z
URL:http://business.beaufortchamber.org/events/details/beaufort-regional-chamber-b4b-ameris-bank-annual-sponsorship-07-01-2010-3866
END:VEVENT

END:VCALENDAR
