BEGIN:VCALENDAR
VERSION:2.0
PRODID:-//ChamberMaster//Event Calendar 2.0//EN
METHOD:PUBLISH
X-PUBLISHED-TTL:P3D
REFRESH-INTERVAL:P3D
CALSCALE:GREGORIAN
BEGIN:VEVENT
DTSTART;VALUE=DATE:20101005
DTEND;VALUE=DATE:20101006
TRANSP:TRANSPARENT
X-MICROSOFT-CDO-ALLDAYEVENT:TRUE
SUMMARY:Beaufort Regional Chamber - B4B Quality Inn at Town Center
DESCRIPTION:Cost:  $10 members ..... $20 Non Members
X-ALT-DESC;FMTTYPE=text/html:Cost:  $10 members ..... $20 Non Members
LOCATION:
UID:e.1212.3868
SEQUENCE:3
DTSTAMP:20260424T041317Z
URL:http://business.beaufortchamber.org/events/details/beaufort-regional-chamber-b4b-quality-inn-at-town-center-10-05-2010-3868
END:VEVENT

END:VCALENDAR
