BEGIN:VCALENDAR
VERSION:2.0
PRODID:-//ChamberMaster//Event Calendar 2.0//EN
METHOD:PUBLISH
X-PUBLISHED-TTL:P3D
REFRESH-INTERVAL:P3D
CALSCALE:GREGORIAN
BEGIN:VEVENT
DTSTART;VALUE=DATE:20101014
DTEND;VALUE=DATE:20101015
TRANSP:TRANSPARENT
X-MICROSOFT-CDO-ALLDAYEVENT:TRUE
SUMMARY:Beaufort Regional Chamber BAH - Beaufort County Open Land and Trust
DESCRIPTION:Canceled per Amy
X-ALT-DESC;FMTTYPE=text/html:Canceled per Amy
LOCATION:
UID:e.1212.3820
SEQUENCE:3
DTSTAMP:20260424T041226Z
URL:http://business.beaufortchamber.org/events/details/beaufort-regional-chamber-bah-beaufort-county-open-land-and-trust-10-14-2010-3820
END:VEVENT

END:VCALENDAR
