BEGIN:VCALENDAR
VERSION:2.0
PRODID:-//ChamberMaster//Event Calendar 2.0//EN
METHOD:PUBLISH
X-PUBLISHED-TTL:P3D
REFRESH-INTERVAL:P3D
CALSCALE:GREGORIAN
BEGIN:VEVENT
DTSTART;VALUE=DATE:20101209
DTEND;VALUE=DATE:20101210
TRANSP:TRANSPARENT
X-MICROSOFT-CDO-ALLDAYEVENT:TRUE
SUMMARY:Beaufort Regional Chamber BAH - Southern Graces
DESCRIPTION:Southern Graces at 304 West St but event is at Beaufort Inn
X-ALT-DESC;FMTTYPE=text/html:Southern Graces at 304 West St but event is at Beaufort Inn
LOCATION:
UID:e.1212.3852
SEQUENCE:3
DTSTAMP:20260424T010722Z
URL:http://business.beaufortchamber.org/events/details/beaufort-regional-chamber-bah-southern-graces-12-09-2010-3852
END:VEVENT

END:VCALENDAR
