BEGIN:VCALENDAR
VERSION:2.0
PRODID:-//ChamberMaster//Event Calendar 2.0//EN
METHOD:PUBLISH
X-PUBLISHED-TTL:P3D
REFRESH-INTERVAL:P3D
CALSCALE:GREGORIAN
BEGIN:VEVENT
DTSTART;VALUE=DATE:20101118
DTEND;VALUE=DATE:20101119
TRANSP:TRANSPARENT
X-MICROSOFT-CDO-ALLDAYEVENT:TRUE
SUMMARY:Beaufort Regional Chamber - BAH Summit Place of Beaufort
DESCRIPTION:Members $10  Future Members $20
X-ALT-DESC;FMTTYPE=text/html:Members $10  Future Members $20
LOCATION:
UID:e.1212.3869
SEQUENCE:3
DTSTAMP:20260424T024328Z
URL:http://business.beaufortchamber.org/events/details/beaufort-regional-chamber-bah-summit-place-of-beaufort-11-18-2010-3869
END:VEVENT

END:VCALENDAR
