BEGIN:VCALENDAR
VERSION:2.0
PRODID:-//ChamberMaster//Event Calendar 2.0//EN
METHOD:PUBLISH
X-PUBLISHED-TTL:P3D
REFRESH-INTERVAL:P3D
CALSCALE:GREGORIAN
BEGIN:VEVENT
DTSTART;VALUE=DATE:20110512
DTEND;VALUE=DATE:20110513
TRANSP:TRANSPARENT
X-MICROSOFT-CDO-ALLDAYEVENT:TRUE
SUMMARY:Beaufort Regional Chamber BAH - Tri-Command Communities
DESCRIPTION:$10 Members/$20 Future Members
X-ALT-DESC;FMTTYPE=text/html:$10 Members/$20 Future Members
LOCATION:
UID:e.1212.3865
SEQUENCE:3
DTSTAMP:20260423T182132Z
URL:http://business.beaufortchamber.org/events/details/beaufort-regional-chamber-bah-tri-command-communities-05-12-2011-3865
END:VEVENT

END:VCALENDAR
