BEGIN:VCALENDAR
VERSION:2.0
PRODID:-//ChamberMaster//Event Calendar 2.0//EN
METHOD:PUBLISH
X-PUBLISHED-TTL:P3D
REFRESH-INTERVAL:P3D
CALSCALE:GREGORIAN
BEGIN:VEVENT
DTSTART;VALUE=DATE:20091030
DTEND;VALUE=DATE:20091031
TRANSP:TRANSPARENT
X-MICROSOFT-CDO-ALLDAYEVENT:TRUE
SUMMARY:Beaufort Regional Chamber - Biannual Economic Outlook
DESCRIPTION:Speaker:  Fred Eisel\, First Carolina Federal Crdit Union will address topics on economic outlook in the finance and banking industries as well as information on other economic issues.\nCost:  Free for Members   \nCost: $15 for future Members\nRSVP by Wednesday\, October 28
X-ALT-DESC;FMTTYPE=text/html:Speaker:  Fred Eisel\, First Carolina Federal Crdit Union will address topics on economic outlook in the finance and banking industries as well as information on other economic issues.\nCost:  Free for Members   \nCost: $15 for future Members\nRSVP by Wednesday\, October 28
LOCATION:
UID:e.1212.3609
SEQUENCE:3
DTSTAMP:20260424T221844Z
URL:http://business.beaufortchamber.org/events/details/beaufort-regional-chamber-biannual-economic-outlook-10-30-2009-3609
END:VEVENT

END:VCALENDAR
