BEGIN:VCALENDAR
VERSION:2.0
PRODID:-//ChamberMaster//Event Calendar 2.0//EN
METHOD:PUBLISH
X-PUBLISHED-TTL:P3D
REFRESH-INTERVAL:P3D
CALSCALE:GREGORIAN
BEGIN:VEVENT
DTSTART;VALUE=DATE:20100107
DTEND;VALUE=DATE:20100108
TRANSP:TRANSPARENT
X-MICROSOFT-CDO-ALLDAYEVENT:TRUE
SUMMARY:Beaufort Regional Chamber - Bluffton Networking Group
DESCRIPTION:Speaker: Jane Jude \n\nTopic: “Don’t lean on your Lamppost”\,\nJude’s signature seminar on creating an exceptional presentation using effective visual aids. \n\nBring your business cards and network with fellow Chamber members\n\nCost: Free to Chamber members
X-ALT-DESC;FMTTYPE=text/html:Speaker: Jane Jude \n\nTopic: “Don’t lean on your Lamppost”\,\nJude’s signature seminar on creating an exceptional presentation using effective visual aids. \n\nBring your business cards and network with fellow Chamber members\n\nCost: Free to Chamber members
LOCATION:
UID:e.1212.3733
SEQUENCE:3
DTSTAMP:20260424T183253Z
URL:http://business.beaufortchamber.org/events/details/beaufort-regional-chamber-bluffton-networking-group-01-07-2010-3733
END:VEVENT

END:VCALENDAR
