BEGIN:VCALENDAR
VERSION:2.0
PRODID:-//ChamberMaster//Event Calendar 2.0//EN
METHOD:PUBLISH
X-PUBLISHED-TTL:P3D
REFRESH-INTERVAL:P3D
CALSCALE:GREGORIAN
BEGIN:VEVENT
DTSTART;VALUE=DATE:20100204
DTEND;VALUE=DATE:20100205
TRANSP:TRANSPARENT
X-MICROSOFT-CDO-ALLDAYEVENT:TRUE
SUMMARY:Beaufort Regional Chamber - Bluffton Networking Group
DESCRIPTION:Speaker: Mayor Lisa Sulka\n\nTopic: “Updates\, Issues and Growth for the Town of Bluffton."\n\nBring your business cards and network with fellow Chamber members\n\nCost: Free to Chamber members
X-ALT-DESC;FMTTYPE=text/html:Speaker: Mayor Lisa Sulka\n\nTopic: “Updates\, Issues and Growth for the Town of Bluffton."\n\nBring your business cards and network with fellow Chamber members\n\nCost: Free to Chamber members
LOCATION:
UID:e.1212.3754
SEQUENCE:3
DTSTAMP:20260424T170732Z
URL:http://business.beaufortchamber.org/events/details/beaufort-regional-chamber-bluffton-networking-group-02-04-2010-3754
END:VEVENT

END:VCALENDAR
