BEGIN:VCALENDAR
VERSION:2.0
PRODID:-//ChamberMaster//Event Calendar 2.0//EN
METHOD:PUBLISH
X-PUBLISHED-TTL:P3D
REFRESH-INTERVAL:P3D
CALSCALE:GREGORIAN
BEGIN:VEVENT
DTSTART;VALUE=DATE:20091105
DTEND;VALUE=DATE:20091106
TRANSP:TRANSPARENT
X-MICROSOFT-CDO-ALLDAYEVENT:TRUE
SUMMARY:Beaufort Regional Chamber - Bluffton Networking Group
DESCRIPTION:Speaker: Elizabeth Millen\, Pink Magazine \nTopic: "Avoiding Mishaps in Marketing"\nAn overview of the most common mistakes made by businesses when it comes to marketing and how to avoid them.\nBring your business cards and network with fellow Chamber members. \nCost: Free to Chamber members.
X-ALT-DESC;FMTTYPE=text/html:Speaker: Elizabeth Millen\, Pink Magazine \nTopic: "Avoiding Mishaps in Marketing"\nAn overview of the most common mistakes made by businesses when it comes to marketing and how to avoid them.\nBring your business cards and network with fellow Chamber members. \nCost: Free to Chamber members.
LOCATION:
UID:e.1212.3607
SEQUENCE:3
DTSTAMP:20260424T204710Z
URL:http://business.beaufortchamber.org/events/details/beaufort-regional-chamber-bluffton-networking-group-11-05-2009-3607
END:VEVENT

END:VCALENDAR
