BEGIN:VCALENDAR
VERSION:2.0
PRODID:-//ChamberMaster//Event Calendar 2.0//EN
METHOD:PUBLISH
X-PUBLISHED-TTL:P3D
REFRESH-INTERVAL:P3D
CALSCALE:GREGORIAN
BEGIN:VEVENT
DTSTART;VALUE=DATE:20091203
DTEND;VALUE=DATE:20091204
TRANSP:TRANSPARENT
X-MICROSOFT-CDO-ALLDAYEVENT:TRUE
SUMMARY:Beaufort Regional Chamber - Bluffton Networking Group
DESCRIPTION:Speaker: Nancy Schilling\, Friends of the River \nTopic: Presenting our new program "Riversmart"\nCome hear all the details about this exciting new venture !\nBring your business cards and network with fellow Chamber members\nCost: Free to Chamber members
X-ALT-DESC;FMTTYPE=text/html:Speaker: Nancy Schilling\, Friends of the River \nTopic: Presenting our new program "Riversmart"\nCome hear all the details about this exciting new venture !\nBring your business cards and network with fellow Chamber members\nCost: Free to Chamber members
LOCATION:
UID:e.1212.3608
SEQUENCE:3
DTSTAMP:20260424T204708Z
URL:http://business.beaufortchamber.org/events/details/beaufort-regional-chamber-bluffton-networking-group-12-03-2009-3608
END:VEVENT

END:VCALENDAR
