BEGIN:VCALENDAR
VERSION:2.0
PRODID:-//ChamberMaster//Event Calendar 2.0//EN
METHOD:PUBLISH
X-PUBLISHED-TTL:P3D
REFRESH-INTERVAL:P3D
CALSCALE:GREGORIAN
BEGIN:VEVENT
DTSTART;VALUE=DATE:20100126
DTEND;VALUE=DATE:20100127
TRANSP:TRANSPARENT
X-MICROSOFT-CDO-ALLDAYEVENT:TRUE
SUMMARY:Beaufort Regional Chamber - Breakfast & Brainfood
DESCRIPTION:Speaker:  Melissa Azallion\, Nexsen Pruet\nTopic: This seminar will cover the major changes in employment law during the first year of the Obama administration. Azallion will cover the main elements of new laws and regulations to ensure employers are in compliance (i.e. FMLA\, ADAAA\, SC Illegal Immigration Reform Act\, Lily Ledbetter Fair Pay Act\, etc.).\nCost: $5 Members\nCost: $10 for Non-Members\nRSVP by Monday\, January 25
X-ALT-DESC;FMTTYPE=text/html:Speaker:  Melissa Azallion\, Nexsen Pruet\nTopic: This seminar will cover the major changes in employment law during the first year of the Obama administration. Azallion will cover the main elements of new laws and regulations to ensure employers are in compliance (i.e. FMLA\, ADAAA\, SC Illegal Immigration Reform Act\, Lily Ledbetter Fair Pay Act\, etc.).\nCost: $5 Members\nCost: $10 for Non-Members\nRSVP by Monday\, January 25
LOCATION:
UID:e.1212.3743
SEQUENCE:3
DTSTAMP:20260424T184251Z
URL:http://business.beaufortchamber.org/events/details/beaufort-regional-chamber-breakfast-brainfood-01-26-2010-3743
END:VEVENT

END:VCALENDAR
