BEGIN:VCALENDAR
VERSION:2.0
PRODID:-//ChamberMaster//Event Calendar 2.0//EN
METHOD:PUBLISH
X-PUBLISHED-TTL:P3D
REFRESH-INTERVAL:P3D
CALSCALE:GREGORIAN
BEGIN:VEVENT
DTSTART;VALUE=DATE:20090915
DTEND;VALUE=DATE:20090916
TRANSP:TRANSPARENT
X-MICROSOFT-CDO-ALLDAYEVENT:TRUE
SUMMARY:Beaufort Regional Chamber Business 2 Business Expo
DESCRIPTION:Business Expo 2009 is the networking event in the Beaufort region.  Companies of all sizes and industries will present their products and services during this annual event.  It is an ideal opportunity to grow existing relationships and find new suppliers\, customers and partners. Reserve your booth now ! First come first serve.  Deadline for Expo Applications is July 31.
X-ALT-DESC;FMTTYPE=text/html:Business Expo 2009 is the networking event in the Beaufort region.  Companies of all sizes and industries will present their products and services during this annual event.  It is an ideal opportunity to grow existing relationships and find new suppliers\, customers and partners. Reserve your booth now ! First come first serve.  Deadline for Expo Applications is July 31.
LOCATION:
UID:e.1212.3340
SEQUENCE:3
DTSTAMP:20260425T010940Z
URL:http://business.beaufortchamber.org/events/details/beaufort-regional-chamber-business-2-business-expo-09-15-2009-3340
END:VEVENT

END:VCALENDAR
