BEGIN:VCALENDAR
VERSION:2.0
PRODID:-//ChamberMaster//Event Calendar 2.0//EN
METHOD:PUBLISH
X-PUBLISHED-TTL:P3D
REFRESH-INTERVAL:P3D
CALSCALE:GREGORIAN
BEGIN:VEVENT
DTSTART;VALUE=DATE:20100216
DTEND;VALUE=DATE:20100217
TRANSP:TRANSPARENT
X-MICROSOFT-CDO-ALLDAYEVENT:TRUE
SUMMARY:Beaufort Regional Chamber - Business 4 Breakfast
DESCRIPTION:Join President & CEO\, David Ginn of the Charleston Regional Development Alliance as he presents on the topic of Boeing\, "How We Got It and What's Next".\nPlease RSVP by Friday\, Feb 12.\nCost:  $10 Members  $20 for Future Members
X-ALT-DESC;FMTTYPE=text/html:Join President & CEO\, David Ginn of the Charleston Regional Development Alliance as he presents on the topic of Boeing\, "How We Got It and What's Next".\nPlease RSVP by Friday\, Feb 12.\nCost:  $10 Members  $20 for Future Members
LOCATION:
UID:e.1212.3757
SEQUENCE:3
DTSTAMP:20260424T171951Z
URL:http://business.beaufortchamber.org/events/details/beaufort-regional-chamber-business-4-breakfast-02-16-2010-3757
END:VEVENT

END:VCALENDAR
