BEGIN:VCALENDAR
VERSION:2.0
PRODID:-//ChamberMaster//Event Calendar 2.0//EN
METHOD:PUBLISH
X-PUBLISHED-TTL:P3D
REFRESH-INTERVAL:P3D
CALSCALE:GREGORIAN
BEGIN:VEVENT
DTSTART;VALUE=DATE:20110113
DTEND;VALUE=DATE:20110114
TRANSP:TRANSPARENT
X-MICROSOFT-CDO-ALLDAYEVENT:TRUE
SUMMARY:Beaufort Regional Chamber Business After Hours - Beaufort County Open Land Trust
DESCRIPTION:$10 member    $20 future member
X-ALT-DESC;FMTTYPE=text/html:$10 member    $20 future member
LOCATION:
UID:e.1212.3878
SEQUENCE:3
DTSTAMP:20260423T234159Z
URL:http://business.beaufortchamber.org/events/details/beaufort-regional-chamber-business-after-hours-beaufort-county-open-land-trust-01-13-2011-3878
END:VEVENT

END:VCALENDAR
