BEGIN:VCALENDAR
VERSION:2.0
PRODID:-//ChamberMaster//Event Calendar 2.0//EN
METHOD:PUBLISH
X-PUBLISHED-TTL:P3D
REFRESH-INTERVAL:P3D
CALSCALE:GREGORIAN
BEGIN:VEVENT
DTSTART;VALUE=DATE:20100311
DTEND;VALUE=DATE:20100312
TRANSP:TRANSPARENT
X-MICROSOFT-CDO-ALLDAYEVENT:TRUE
SUMMARY:Beaufort Regional Chamber Business After Hours - SCB&T
DESCRIPTION:Sponsored by a different member business each month\, Chamber members look forward to this popular after-hours networking event.  This is a perfect opportunity to make new business contacts and foster existing ones.\nFeatures:  Free food\, beverage\, and the chance to win exciting door prizes too !\nBe sure to bring your business cards\nPlease RSVP by Wednesday\, March 10th\nCost: $10 Members  $20 For Future Members
X-ALT-DESC;FMTTYPE=text/html:Sponsored by a different member business each month\, Chamber members look forward to this popular after-hours networking event.  This is a perfect opportunity to make new business contacts and foster existing ones.\nFeatures:  Free food\, beverage\, and the chance to win exciting door prizes too !\nBe sure to bring your business cards\nPlease RSVP by Wednesday\, March 10th\nCost: $10 Members  $20 For Future Members
LOCATION:
UID:e.1212.3803
SEQUENCE:3
DTSTAMP:20260424T155052Z
URL:http://business.beaufortchamber.org/events/details/beaufort-regional-chamber-business-after-hours-scb-t-03-11-2010-3803
END:VEVENT

END:VCALENDAR
